BEGIN:VCALENDAR
VERSION:2.0
PRODID:-//Terra Vite Winery &amp; Vineyard - ECPv6.15.20//NONSGML v1.0//EN
CALSCALE:GREGORIAN
METHOD:PUBLISH
X-ORIGINAL-URL:https://www.terravitevineyard.com
X-WR-CALDESC:Events for Terra Vite Winery &amp; Vineyard
REFRESH-INTERVAL;VALUE=DURATION:PT1H
X-Robots-Tag:noindex
X-PUBLISHED-TTL:PT1H
BEGIN:VTIMEZONE
TZID:America/Vancouver
BEGIN:DAYLIGHT
TZOFFSETFROM:-0800
TZOFFSETTO:-0700
TZNAME:PDT
DTSTART:20250309T100000
END:DAYLIGHT
BEGIN:STANDARD
TZOFFSETFROM:-0700
TZOFFSETTO:-0800
TZNAME:PST
DTSTART:20251102T090000
END:STANDARD
BEGIN:DAYLIGHT
TZOFFSETFROM:-0800
TZOFFSETTO:-0700
TZNAME:PDT
DTSTART:20260308T100000
END:DAYLIGHT
BEGIN:STANDARD
TZOFFSETFROM:-0700
TZOFFSETTO:-0800
TZNAME:PST
DTSTART:20261101T090000
END:STANDARD
BEGIN:DAYLIGHT
TZOFFSETFROM:-0800
TZOFFSETTO:-0700
TZNAME:PDT
DTSTART:20270314T100000
END:DAYLIGHT
BEGIN:STANDARD
TZOFFSETFROM:-0700
TZOFFSETTO:-0800
TZNAME:PST
DTSTART:20271107T090000
END:STANDARD
END:VTIMEZONE
BEGIN:VEVENT
DTSTART;TZID=America/Vancouver:20260905T160000
DTEND;TZID=America/Vancouver:20260905T190000
DTSTAMP:20260424T071808
CREATED:20241023T164937Z
LAST-MODIFIED:20260122T193534Z
UID:10000866-1788624000-1788634800@www.terravitevineyard.com
SUMMARY:LIVE MUSIC with Erin Chase!
DESCRIPTION:
URL:https://www.terravitevineyard.com/event/live-music-with-erin-chase-5/2026-09-05/
LOCATION:Terra Vite North Fork Winery & Vineyard\, 250 Manor Lane\, Jamesport\, NY\, 11947\, United States
CATEGORIES:Weekend Music
ATTACH;FMTTYPE=image/png:https://www.terravitevineyard.com/wp-content/uploads/2024/10/Erin-Chase-Events-Cal.png
ORGANIZER;CN="Terra Vite North Fork":MAILTO:info@terravitevineyard.com
END:VEVENT
BEGIN:VEVENT
DTSTART;TZID=America/Vancouver:20260906T133000
DTEND;TZID=America/Vancouver:20260906T163000
DTSTAMP:20260424T071808
CREATED:20241031T171346Z
LAST-MODIFIED:20260122T191532Z
UID:10000846-1788701400-1788712200@www.terravitevineyard.com
SUMMARY:Live Music with Christiaan Padavan
DESCRIPTION:Join us and American Idol’s Christiaan Padavan for an afternoon of music!Reservations are STRONGLY SUGGESTED and can be made directly on our website: terravitevineyard.com
URL:https://www.terravitevineyard.com/event/live-music-with-christiaan-padavan/2026-09-06/
LOCATION:Terra Vite North Fork Winery & Vineyard\, 250 Manor Lane\, Jamesport\, NY\, 11947\, United States
CATEGORIES:Weekend Music
ATTACH;FMTTYPE=image/png:https://www.terravitevineyard.com/wp-content/uploads/2024/10/Christiaan-Padavan-LIVE-MUSIC.png
ORGANIZER;CN="Terra Vite North Fork":MAILTO:info@terravitevineyard.com
END:VEVENT
BEGIN:VEVENT
DTSTART;TZID=America/Vancouver:20260912T133000
DTEND;TZID=America/Vancouver:20260912T163000
DTSTAMP:20260424T071808
CREATED:20260122T185953Z
LAST-MODIFIED:20260122T190041Z
UID:10000835-1789219800-1789230600@www.terravitevineyard.com
SUMMARY:Live Music with Dorothia Music
DESCRIPTION:
URL:https://www.terravitevineyard.com/event/live-music-with-dorothea-music/2026-09-12/
LOCATION:Terra Vite North Fork Winery & Vineyard\, 250 Manor Lane\, Jamesport\, NY\, 11947\, United States
CATEGORIES:Weekend Music
ATTACH;FMTTYPE=image/png:https://www.terravitevineyard.com/wp-content/uploads/2026/01/LIVE-MUSIC-for-Events-Page.png
ORGANIZER;CN="Terra Vite North Fork":MAILTO:info@terravitevineyard.com
END:VEVENT
BEGIN:VEVENT
DTSTART;TZID=America/Vancouver:20260919T133000
DTEND;TZID=America/Vancouver:20260919T163000
DTSTAMP:20260424T071808
CREATED:20241031T171346Z
LAST-MODIFIED:20260122T191532Z
UID:10000847-1789824600-1789835400@www.terravitevineyard.com
SUMMARY:Live Music with Christiaan Padavan
DESCRIPTION:Join us and American Idol’s Christiaan Padavan for an afternoon of music!Reservations are STRONGLY SUGGESTED and can be made directly on our website: terravitevineyard.com
URL:https://www.terravitevineyard.com/event/live-music-with-christiaan-padavan/2026-09-19/
LOCATION:Terra Vite North Fork Winery & Vineyard\, 250 Manor Lane\, Jamesport\, NY\, 11947\, United States
CATEGORIES:Weekend Music
ATTACH;FMTTYPE=image/png:https://www.terravitevineyard.com/wp-content/uploads/2024/10/Christiaan-Padavan-LIVE-MUSIC.png
ORGANIZER;CN="Terra Vite North Fork":MAILTO:info@terravitevineyard.com
END:VEVENT
BEGIN:VEVENT
DTSTART;TZID=America/Vancouver:20260920T133000
DTEND;TZID=America/Vancouver:20260920T163000
DTSTAMP:20260424T071808
CREATED:20260122T195014Z
LAST-MODIFIED:20260122T195014Z
UID:10000888-1789911000-1789921800@www.terravitevineyard.com
SUMMARY:Live Music with Deanna Hudson
DESCRIPTION:
URL:https://www.terravitevineyard.com/event/live-music-with-deanna-hudson/2026-09-20/
LOCATION:NY
CATEGORIES:Weekend Music
ATTACH;FMTTYPE=image/png:https://www.terravitevineyard.com/wp-content/uploads/2026/01/Erin-Chase-LIVE-MUSIC-for-Events-Page.png
END:VEVENT
BEGIN:VEVENT
DTSTART;TZID=America/Vancouver:20260926T133000
DTEND;TZID=America/Vancouver:20260926T163000
DTSTAMP:20260424T071808
CREATED:20250326T192503Z
LAST-MODIFIED:20260122T192133Z
UID:10000855-1790429400-1790440200@www.terravitevineyard.com
SUMMARY:Live Music with Jeff LeBlanc
DESCRIPTION:Jeff will be performing this Sunday at Terra Vite from 1:30-4:30pm. \nReservations are strongly recommended and can be made on our website.
URL:https://www.terravitevineyard.com/event/live-music-with-jeff-leblanc-4/2026-09-26/
LOCATION:Terra Vite North Fork Winery & Vineyard\, 250 Manor Lane\, Jamesport\, NY\, 11947\, United States
CATEGORIES:Weekend Music
ATTACH;FMTTYPE=image/png:https://www.terravitevineyard.com/wp-content/uploads/2025/03/Sunday-Jeff-Leblanc.png
ORGANIZER;CN="Terra Vite North Fork":MAILTO:info@terravitevineyard.com
END:VEVENT
BEGIN:VEVENT
DTSTART;TZID=America/Vancouver:20260927T133000
DTEND;TZID=America/Vancouver:20260927T163000
DTSTAMP:20260424T071808
CREATED:20260122T195014Z
LAST-MODIFIED:20260122T195014Z
UID:10000889-1790515800-1790526600@www.terravitevineyard.com
SUMMARY:Live Music with Deanna Hudson
DESCRIPTION:
URL:https://www.terravitevineyard.com/event/live-music-with-deanna-hudson/2026-09-27/
LOCATION:NY
CATEGORIES:Weekend Music
ATTACH;FMTTYPE=image/png:https://www.terravitevineyard.com/wp-content/uploads/2026/01/Erin-Chase-LIVE-MUSIC-for-Events-Page.png
END:VEVENT
BEGIN:VEVENT
DTSTART;TZID=America/Vancouver:20261003T133000
DTEND;TZID=America/Vancouver:20261003T163000
DTSTAMP:20260424T071808
CREATED:20241031T171346Z
LAST-MODIFIED:20260122T191532Z
UID:10000848-1791034200-1791045000@www.terravitevineyard.com
SUMMARY:Live Music with Christiaan Padavan
DESCRIPTION:Join us and American Idol’s Christiaan Padavan for an afternoon of music!Reservations are STRONGLY SUGGESTED and can be made directly on our website: terravitevineyard.com
URL:https://www.terravitevineyard.com/event/live-music-with-christiaan-padavan/2026-10-03/
LOCATION:Terra Vite North Fork Winery & Vineyard\, 250 Manor Lane\, Jamesport\, NY\, 11947\, United States
CATEGORIES:Weekend Music
ATTACH;FMTTYPE=image/png:https://www.terravitevineyard.com/wp-content/uploads/2024/10/Christiaan-Padavan-LIVE-MUSIC.png
ORGANIZER;CN="Terra Vite North Fork":MAILTO:info@terravitevineyard.com
END:VEVENT
BEGIN:VEVENT
DTSTART;TZID=America/Vancouver:20261011T133000
DTEND;TZID=America/Vancouver:20261011T163000
DTSTAMP:20260424T071808
CREATED:20260122T185953Z
LAST-MODIFIED:20260122T190041Z
UID:10000836-1791725400-1791736200@www.terravitevineyard.com
SUMMARY:Live Music with Dorothia Music
DESCRIPTION:
URL:https://www.terravitevineyard.com/event/live-music-with-dorothea-music/2026-10-11/
LOCATION:Terra Vite North Fork Winery & Vineyard\, 250 Manor Lane\, Jamesport\, NY\, 11947\, United States
CATEGORIES:Weekend Music
ATTACH;FMTTYPE=image/png:https://www.terravitevineyard.com/wp-content/uploads/2026/01/LIVE-MUSIC-for-Events-Page.png
ORGANIZER;CN="Terra Vite North Fork":MAILTO:info@terravitevineyard.com
END:VEVENT
BEGIN:VEVENT
DTSTART;TZID=America/Vancouver:20261017T133000
DTEND;TZID=America/Vancouver:20261017T163000
DTSTAMP:20260424T071808
CREATED:20250326T192503Z
LAST-MODIFIED:20260122T192133Z
UID:10000856-1792243800-1792254600@www.terravitevineyard.com
SUMMARY:Live Music with Jeff LeBlanc
DESCRIPTION:Jeff will be performing this Sunday at Terra Vite from 1:30-4:30pm. \nReservations are strongly recommended and can be made on our website.
URL:https://www.terravitevineyard.com/event/live-music-with-jeff-leblanc-4/2026-10-17/
LOCATION:Terra Vite North Fork Winery & Vineyard\, 250 Manor Lane\, Jamesport\, NY\, 11947\, United States
CATEGORIES:Weekend Music
ATTACH;FMTTYPE=image/png:https://www.terravitevineyard.com/wp-content/uploads/2025/03/Sunday-Jeff-Leblanc.png
ORGANIZER;CN="Terra Vite North Fork":MAILTO:info@terravitevineyard.com
END:VEVENT
BEGIN:VEVENT
DTSTART;TZID=America/Vancouver:20261018T133000
DTEND;TZID=America/Vancouver:20261018T163000
DTSTAMP:20260424T071808
CREATED:20241023T164937Z
LAST-MODIFIED:20260122T193534Z
UID:10000867-1792330200-1792341000@www.terravitevineyard.com
SUMMARY:LIVE MUSIC with Erin Chase!
DESCRIPTION:
URL:https://www.terravitevineyard.com/event/live-music-with-erin-chase-5/2026-10-18/
LOCATION:Terra Vite North Fork Winery & Vineyard\, 250 Manor Lane\, Jamesport\, NY\, 11947\, United States
CATEGORIES:Weekend Music
ATTACH;FMTTYPE=image/png:https://www.terravitevineyard.com/wp-content/uploads/2024/10/Erin-Chase-Events-Cal.png
ORGANIZER;CN="Terra Vite North Fork":MAILTO:info@terravitevineyard.com
END:VEVENT
BEGIN:VEVENT
DTSTART;TZID=America/Vancouver:20261024T133000
DTEND;TZID=America/Vancouver:20261024T163000
DTSTAMP:20260424T071808
CREATED:20260122T195014Z
LAST-MODIFIED:20260122T195014Z
UID:10000890-1792848600-1792859400@www.terravitevineyard.com
SUMMARY:Live Music with Deanna Hudson
DESCRIPTION:
URL:https://www.terravitevineyard.com/event/live-music-with-deanna-hudson/2026-10-24/
LOCATION:NY
CATEGORIES:Weekend Music
ATTACH;FMTTYPE=image/png:https://www.terravitevineyard.com/wp-content/uploads/2026/01/Erin-Chase-LIVE-MUSIC-for-Events-Page.png
END:VEVENT
BEGIN:VEVENT
DTSTART;TZID=America/Vancouver:20261025T133000
DTEND;TZID=America/Vancouver:20261025T163000
DTSTAMP:20260424T071808
CREATED:20241031T171346Z
LAST-MODIFIED:20260122T191532Z
UID:10000849-1792935000-1792945800@www.terravitevineyard.com
SUMMARY:Live Music with Christiaan Padavan
DESCRIPTION:Join us and American Idol’s Christiaan Padavan for an afternoon of music!Reservations are STRONGLY SUGGESTED and can be made directly on our website: terravitevineyard.com
URL:https://www.terravitevineyard.com/event/live-music-with-christiaan-padavan/2026-10-25/
LOCATION:Terra Vite North Fork Winery & Vineyard\, 250 Manor Lane\, Jamesport\, NY\, 11947\, United States
CATEGORIES:Weekend Music
ATTACH;FMTTYPE=image/png:https://www.terravitevineyard.com/wp-content/uploads/2024/10/Christiaan-Padavan-LIVE-MUSIC.png
ORGANIZER;CN="Terra Vite North Fork":MAILTO:info@terravitevineyard.com
END:VEVENT
BEGIN:VEVENT
DTSTART;TZID=America/Vancouver:20261031T133000
DTEND;TZID=America/Vancouver:20261031T163000
DTSTAMP:20260424T071808
CREATED:20260122T195014Z
LAST-MODIFIED:20260122T195014Z
UID:10000891-1793453400-1793464200@www.terravitevineyard.com
SUMMARY:Live Music with Deanna Hudson
DESCRIPTION:
URL:https://www.terravitevineyard.com/event/live-music-with-deanna-hudson/2026-10-31/
LOCATION:NY
CATEGORIES:Weekend Music
ATTACH;FMTTYPE=image/png:https://www.terravitevineyard.com/wp-content/uploads/2026/01/Erin-Chase-LIVE-MUSIC-for-Events-Page.png
END:VEVENT
BEGIN:VEVENT
DTSTART;TZID=America/Vancouver:20261107T133000
DTEND;TZID=America/Vancouver:20261107T163000
DTSTAMP:20260424T071808
CREATED:20260122T185953Z
LAST-MODIFIED:20260122T190041Z
UID:10000837-1794058200-1794069000@www.terravitevineyard.com
SUMMARY:Live Music with Dorothia Music
DESCRIPTION:
URL:https://www.terravitevineyard.com/event/live-music-with-dorothea-music/2026-11-07/
LOCATION:Terra Vite North Fork Winery & Vineyard\, 250 Manor Lane\, Jamesport\, NY\, 11947\, United States
CATEGORIES:Weekend Music
ATTACH;FMTTYPE=image/png:https://www.terravitevineyard.com/wp-content/uploads/2026/01/LIVE-MUSIC-for-Events-Page.png
ORGANIZER;CN="Terra Vite North Fork":MAILTO:info@terravitevineyard.com
END:VEVENT
BEGIN:VEVENT
DTSTART;TZID=America/Vancouver:20261122T133000
DTEND;TZID=America/Vancouver:20261122T163000
DTSTAMP:20260424T071808
CREATED:20250326T192503Z
LAST-MODIFIED:20260122T192133Z
UID:10000857-1795354200-1795365000@www.terravitevineyard.com
SUMMARY:Live Music with Jeff LeBlanc
DESCRIPTION:Jeff will be performing this Sunday at Terra Vite from 1:30-4:30pm. \nReservations are strongly recommended and can be made on our website.
URL:https://www.terravitevineyard.com/event/live-music-with-jeff-leblanc-4/2026-11-22/
LOCATION:Terra Vite North Fork Winery & Vineyard\, 250 Manor Lane\, Jamesport\, NY\, 11947\, United States
CATEGORIES:Weekend Music
ATTACH;FMTTYPE=image/png:https://www.terravitevineyard.com/wp-content/uploads/2025/03/Sunday-Jeff-Leblanc.png
ORGANIZER;CN="Terra Vite North Fork":MAILTO:info@terravitevineyard.com
END:VEVENT
BEGIN:VEVENT
DTSTART;TZID=America/Vancouver:20261128T133000
DTEND;TZID=America/Vancouver:20261128T163000
DTSTAMP:20260424T071808
CREATED:20260122T195014Z
LAST-MODIFIED:20260122T195014Z
UID:10000892-1795872600-1795883400@www.terravitevineyard.com
SUMMARY:Live Music with Deanna Hudson
DESCRIPTION:
URL:https://www.terravitevineyard.com/event/live-music-with-deanna-hudson/2026-11-28/
LOCATION:NY
CATEGORIES:Weekend Music
ATTACH;FMTTYPE=image/png:https://www.terravitevineyard.com/wp-content/uploads/2026/01/Erin-Chase-LIVE-MUSIC-for-Events-Page.png
END:VEVENT
BEGIN:VEVENT
DTSTART;TZID=America/Vancouver:20261129T133000
DTEND;TZID=America/Vancouver:20261129T163000
DTSTAMP:20260424T071808
CREATED:20260122T195348Z
LAST-MODIFIED:20260122T195407Z
UID:10000905-1795959000-1795969800@www.terravitevineyard.com
SUMMARY:LIVE MUSIC with Erin Chase!
DESCRIPTION:
URL:https://www.terravitevineyard.com/event/live-music-with-erin-chase/2026-11-29/
LOCATION:Terra Vite North Fork Winery & Vineyard\, 250 Manor Lane\, Jamesport\, NY\, 11947\, United States
CATEGORIES:Weekend Music
ATTACH;FMTTYPE=image/png:https://www.terravitevineyard.com/wp-content/uploads/2024/10/Erin-Chase-Events-Cal.png
ORGANIZER;CN="Terra Vite North Fork":MAILTO:info@terravitevineyard.com
END:VEVENT
BEGIN:VEVENT
DTSTART;TZID=America/Vancouver:20261205T133000
DTEND;TZID=America/Vancouver:20261205T163000
DTSTAMP:20260424T071808
CREATED:20260122T195348Z
LAST-MODIFIED:20260122T195407Z
UID:10000906-1796477400-1796488200@www.terravitevineyard.com
SUMMARY:LIVE MUSIC with Erin Chase!
DESCRIPTION:
URL:https://www.terravitevineyard.com/event/live-music-with-erin-chase/2026-12-05/
LOCATION:Terra Vite North Fork Winery & Vineyard\, 250 Manor Lane\, Jamesport\, NY\, 11947\, United States
CATEGORIES:Weekend Music
ATTACH;FMTTYPE=image/png:https://www.terravitevineyard.com/wp-content/uploads/2024/10/Erin-Chase-Events-Cal.png
ORGANIZER;CN="Terra Vite North Fork":MAILTO:info@terravitevineyard.com
END:VEVENT
BEGIN:VEVENT
DTSTART;TZID=America/Vancouver:20261219T133000
DTEND;TZID=America/Vancouver:20261219T163000
DTSTAMP:20260424T071808
CREATED:20260122T195014Z
LAST-MODIFIED:20260122T195014Z
UID:10000893-1797687000-1797697800@www.terravitevineyard.com
SUMMARY:Live Music with Deanna Hudson
DESCRIPTION:
URL:https://www.terravitevineyard.com/event/live-music-with-deanna-hudson/2026-12-19/
LOCATION:NY
CATEGORIES:Weekend Music
ATTACH;FMTTYPE=image/png:https://www.terravitevineyard.com/wp-content/uploads/2026/01/Erin-Chase-LIVE-MUSIC-for-Events-Page.png
END:VEVENT
BEGIN:VEVENT
DTSTART;TZID=America/Vancouver:20261220T163000
DTEND;TZID=America/Vancouver:20261220T163000
DTSTAMP:20260424T071808
CREATED:20250326T192503Z
LAST-MODIFIED:20260122T192133Z
UID:10000858-1797784200-1797784200@www.terravitevineyard.com
SUMMARY:Live Music with Jeff LeBlanc
DESCRIPTION:Jeff will be performing this Sunday at Terra Vite from 1:30-4:30pm. \nReservations are strongly recommended and can be made on our website.
URL:https://www.terravitevineyard.com/event/live-music-with-jeff-leblanc-4/2026-12-20/
LOCATION:Terra Vite North Fork Winery & Vineyard\, 250 Manor Lane\, Jamesport\, NY\, 11947\, United States
CATEGORIES:Weekend Music
ATTACH;FMTTYPE=image/png:https://www.terravitevineyard.com/wp-content/uploads/2025/03/Sunday-Jeff-Leblanc.png
ORGANIZER;CN="Terra Vite North Fork":MAILTO:info@terravitevineyard.com
END:VEVENT
END:VCALENDAR